BEGIN:VCALENDAR
VERSION:2.0
PRODID:-//Critters Pet Shop of South Elgin - ECPv6.15.20//NONSGML v1.0//EN
CALSCALE:GREGORIAN
METHOD:PUBLISH
X-ORIGINAL-URL:https://critterspetshop.com
X-WR-CALDESC:Events for Critters Pet Shop of South Elgin
REFRESH-INTERVAL;VALUE=DURATION:PT1H
X-Robots-Tag:noindex
X-PUBLISHED-TTL:PT1H
BEGIN:VTIMEZONE
TZID:UTC
BEGIN:STANDARD
TZOFFSETFROM:+0000
TZOFFSETTO:+0000
TZNAME:UTC
DTSTART:20250101T000000
END:STANDARD
END:VTIMEZONE
BEGIN:VEVENT
DTSTART;TZID=UTC:20260315T110000
DTEND;TZID=UTC:20260315T130000
DTSTAMP:20260420T225542
CREATED:20260216T222209Z
LAST-MODIFIED:20260216T222534Z
UID:1023-1773572400-1773579600@critterspetshop.com
SUMMARY:Spring Into Love Adoption Day
DESCRIPTION:🌷 Sunday\, March 15\nSpring Into Love Adoption Day\nThe days are getting longer\, the sun is shining a little brighter\, and love is definitely in the air. 🌞 \nJoin us from 11 AM to 1 PM for Cat Adoption Sunday and meet cats ready to bloom in their forever homes. From shy sweethearts to playful explorers\, there’s someone waiting just for you. \nSpring is the perfect time for a new beginning.
URL:https://critterspetshop.com/event/spring-into-love-adoption-day/
LOCATION:Critters Pet Shop\, 582 Randall Rd.\, South Elgin\, IL\, United States
CATEGORIES:Cat Adoption
ATTACH;FMTTYPE=image/jpeg:https://critterspetshop.com/wp-content/uploads/2026/02/Spring-Into-Love-Adoption-Day-scaled.jpg
END:VEVENT
END:VCALENDAR