BEGIN:VCALENDAR
VERSION:2.0
PRODID:-//Critters Pet Shop of South Elgin - ECPv6.15.20//NONSGML v1.0//EN
CALSCALE:GREGORIAN
METHOD:PUBLISH
X-ORIGINAL-URL:https://critterspetshop.com
X-WR-CALDESC:Events for Critters Pet Shop of South Elgin
REFRESH-INTERVAL;VALUE=DURATION:PT1H
X-Robots-Tag:noindex
X-PUBLISHED-TTL:PT1H
BEGIN:VTIMEZONE
TZID:UTC
BEGIN:STANDARD
TZOFFSETFROM:+0000
TZOFFSETTO:+0000
TZNAME:UTC
DTSTART:20250101T000000
END:STANDARD
END:VTIMEZONE
BEGIN:VEVENT
DTSTART;TZID=UTC:20260510T110000
DTEND;TZID=UTC:20260510T130000
DTSTAMP:20260424T222859
CREATED:20260420T174607Z
LAST-MODIFIED:20260420T174608Z
UID:1153-1778410800-1778418000@critterspetshop.com
SUMMARY:Mother’s Day Meows & Cuddles Adoption Day
DESCRIPTION:Mother’s Day Meows & Cuddles Adoption Day\nCelebrate Mother’s Day with something truly special 💛😻Spend the day surrounded by love and maybe meet a new furry family member. Our adoptable cats are ready to bring comfort\, companionship\, and plenty of purrs into your home. \n🕚 11 AM – 1 PM📍 Critters Pet Shop\, South Elgin👜 Please bring a carrier + valid ID
URL:https://critterspetshop.com/event/mothers-day-meows-cuddles-adoption-day/
LOCATION:Critters Pet Shop\, 582 Randall Rd.\, South Elgin\, IL\, United States
CATEGORIES:Cat Adoption
ATTACH;FMTTYPE=image/jpeg:https://critterspetshop.com/wp-content/uploads/2026/04/Mothers-Day-Meows-Cuddles-Adoption-Day-scaled.jpg
END:VEVENT
END:VCALENDAR