BEGIN:VCALENDAR
VERSION:2.0
PRODID:-//Critters Pet Shop of South Elgin - ECPv6.15.20//NONSGML v1.0//EN
CALSCALE:GREGORIAN
METHOD:PUBLISH
X-ORIGINAL-URL:https://critterspetshop.com
X-WR-CALDESC:Events for Critters Pet Shop of South Elgin
REFRESH-INTERVAL;VALUE=DURATION:PT1H
X-Robots-Tag:noindex
X-PUBLISHED-TTL:PT1H
BEGIN:VTIMEZONE
TZID:UTC
BEGIN:STANDARD
TZOFFSETFROM:+0000
TZOFFSETTO:+0000
TZNAME:UTC
DTSTART:20250101T000000
END:STANDARD
END:VTIMEZONE
BEGIN:VEVENT
DTSTART;TZID=UTC:20260215T110000
DTEND;TZID=UTC:20260215T130000
DTSTAMP:20260423T060028
CREATED:20260114T154403Z
LAST-MODIFIED:20260114T154406Z
UID:1001-1771153200-1771160400@critterspetshop.com
SUMMARY:Love Is Still in the Air Adoption Day
DESCRIPTION:Valentine’s Day may be over\, but the love continues! Join us for Cat Adoption Sunday and meet cats and kittens still waiting for their special someone. If you’re ready to turn February into a month of lifelong companionship\, today is the perfect day to adopt. \n😻 Sunday\, February 15\, 2026\n📍 Critters Pet Shop\, 582 Randall Rd.\, South Elgin\, IL👜 Please bring a carrier + valid ID
URL:https://critterspetshop.com/event/love-is-still-in-the-air-adoption-day/
LOCATION:Critters Pet Shop\, 582 Randall Rd.\, South Elgin\, IL\, United States
CATEGORIES:Cat Adoption
ATTACH;FMTTYPE=image/jpeg:https://critterspetshop.com/wp-content/uploads/2026/01/Love-Is-Still-in-the-Air-Adoption-Day-scaled.jpg
END:VEVENT
END:VCALENDAR