BEGIN:VCALENDAR
VERSION:2.0
PRODID:-//Critters Pet Shop of South Elgin - ECPv6.15.20//NONSGML v1.0//EN
CALSCALE:GREGORIAN
METHOD:PUBLISH
X-ORIGINAL-URL:https://critterspetshop.com
X-WR-CALDESC:Events for Critters Pet Shop of South Elgin
REFRESH-INTERVAL;VALUE=DURATION:PT1H
X-Robots-Tag:noindex
X-PUBLISHED-TTL:PT1H
BEGIN:VTIMEZONE
TZID:UTC
BEGIN:STANDARD
TZOFFSETFROM:+0000
TZOFFSETTO:+0000
TZNAME:UTC
DTSTART:20240101T000000
END:STANDARD
END:VTIMEZONE
BEGIN:VEVENT
DTSTART;TZID=UTC:20251123T110000
DTEND;TZID=UTC:20251123T130000
DTSTAMP:20260420T162452
CREATED:20251028T220023Z
LAST-MODIFIED:20251028T220023Z
UID:943-1763895600-1763902800@critterspetshop.com
SUMMARY:Friendsgiving Felines
DESCRIPTION:Forget the side dishes\, we’re serving up purrs! Meet cats who are ready to join your table (or politely observe from a comfy chair). Get guidance on keeping curious kitties safe around Thanksgiving food & décor 🍗🍁
URL:https://critterspetshop.com/event/friendsgiving-felines/
LOCATION:Critters Pet Shop\, 582 Randall Rd.\, South Elgin\, IL\, United States
CATEGORIES:Cat Adoption
ATTACH;FMTTYPE=image/jpeg:https://critterspetshop.com/wp-content/uploads/2025/10/Friendsgiving-Felines-scaled.jpg
END:VEVENT
END:VCALENDAR