BEGIN:VCALENDAR
VERSION:2.0
PRODID:-//Critters Pet Shop of South Elgin - ECPv6.15.20//NONSGML v1.0//EN
CALSCALE:GREGORIAN
METHOD:PUBLISH
X-ORIGINAL-URL:https://critterspetshop.com
X-WR-CALDESC:Events for Critters Pet Shop of South Elgin
REFRESH-INTERVAL;VALUE=DURATION:PT1H
X-Robots-Tag:noindex
X-PUBLISHED-TTL:PT1H
BEGIN:VTIMEZONE
TZID:UTC
BEGIN:STANDARD
TZOFFSETFROM:+0000
TZOFFSETTO:+0000
TZNAME:UTC
DTSTART:20250101T000000
END:STANDARD
END:VTIMEZONE
BEGIN:VEVENT
DTSTART;TZID=UTC:20260426T100000
DTEND;TZID=UTC:20260426T140000
DTSTAMP:20260420T193855
CREATED:20260327T195847Z
LAST-MODIFIED:20260327T200547Z
UID:1093-1777197600-1777212000@critterspetshop.com
SUMMARY:Low-Cost Vaccine Clinic at Critters Pet Shop-April!
DESCRIPTION:Low-Cost Vaccine Clinic at Critters Pet Shop! \nCritters Pet Shop is teaming up with the amazing SNIP Society Spay Neuter Illinois Pets to help you keep your pets healthy\, protected\, and ready for all of life’s tail-wagging adventures. \nVaccines protect against serious and often fatal diseases like rabies\, distemper\, parvo\, and more. Even indoor pets benefit\, since germs are sneaky hitchhikers that can travel on shoes\, clothing\, and visitors. \nApril 26th \n10:00 AM – 2:00 PM\nCritters Pet Shop\, 582 Randall Rd\, South Elgin \nAppointments are required. Scan the QR code on the flyer and select “March 15 – Critters Pet Shop” to reserve your spot.
URL:https://critterspetshop.com/event/low-cost-vaccine-clinic-at-critters-pet-shop-april/
LOCATION:Critters Pet Shop\, 582 Randall Rd.\, South Elgin\, IL\, United States
CATEGORIES:Low-Cost Vaccine Clinic
ATTACH;FMTTYPE=image/jpeg:https://critterspetshop.com/wp-content/uploads/2026/03/Fur-Ever-Spring-Finale-scaled.jpg
END:VEVENT
END:VCALENDAR